BEGIN:VCALENDAR
VERSION:2.0
PRODID:-//Maryville Academy - ECPv6.15.20//NONSGML v1.0//EN
CALSCALE:GREGORIAN
METHOD:PUBLISH
X-ORIGINAL-URL:https://maryvilleacademy.org
X-WR-CALDESC:Events for Maryville Academy
REFRESH-INTERVAL;VALUE=DURATION:PT1H
X-Robots-Tag:noindex
X-PUBLISHED-TTL:PT1H
BEGIN:VTIMEZONE
TZID:America/Chicago
BEGIN:DAYLIGHT
TZOFFSETFROM:-0600
TZOFFSETTO:-0500
TZNAME:CDT
DTSTART:20230312T080000
END:DAYLIGHT
BEGIN:STANDARD
TZOFFSETFROM:-0500
TZOFFSETTO:-0600
TZNAME:CST
DTSTART:20231105T070000
END:STANDARD
BEGIN:DAYLIGHT
TZOFFSETFROM:-0600
TZOFFSETTO:-0500
TZNAME:CDT
DTSTART:20240310T080000
END:DAYLIGHT
BEGIN:STANDARD
TZOFFSETFROM:-0500
TZOFFSETTO:-0600
TZNAME:CST
DTSTART:20241103T070000
END:STANDARD
BEGIN:DAYLIGHT
TZOFFSETFROM:-0600
TZOFFSETTO:-0500
TZNAME:CDT
DTSTART:20250309T080000
END:DAYLIGHT
BEGIN:STANDARD
TZOFFSETFROM:-0500
TZOFFSETTO:-0600
TZNAME:CST
DTSTART:20251102T070000
END:STANDARD
END:VTIMEZONE
BEGIN:VEVENT
DTSTART;TZID=America/Chicago:20241004T080000
DTEND;TZID=America/Chicago:20241004T170000
DTSTAMP:20260422T044945
CREATED:20241004T163401Z
LAST-MODIFIED:20241004T163755Z
UID:15409-1728028800-1728061200@maryvilleacademy.org
SUMMARY:Annual Trunk or Treat on Oct. 26
DESCRIPTION:To register as a volunteer\, please visit https://t.co/GxNpYfkDY1
URL:https://maryvilleacademy.org/event/annual-trunk-or-treat-on-oct-26/
LOCATION:IL
ATTACH;FMTTYPE=image/png:https://maryvilleacademy.org/wp-content/uploads/Trunk-or-Treat-Banner.png
END:VEVENT
BEGIN:VEVENT
DTSTART;TZID=America/Chicago:20241008T113000
DTEND;TZID=America/Chicago:20241008T133000
DTSTAMP:20260422T044945
CREATED:20240827T150841Z
LAST-MODIFIED:20240927T143337Z
UID:15361-1728387000-1728394200@maryvilleacademy.org
SUMMARY:Maryville Crisis Nursery Fall Luncheon\, October 8
DESCRIPTION:         
URL:https://maryvilleacademy.org/event/maryville-crisis-nursery-fall-luncheon-october-8/
LOCATION:North Shore Country Club\, 1340 Glenview Road\, Glenview\, 60025\, United States
ATTACH;FMTTYPE=image/png:https://maryvilleacademy.org/wp-content/uploads/Image-Template-Fall-Luncheon-1.png
END:VEVENT
BEGIN:VEVENT
DTSTART;TZID=America/Chicago:20241026T100000
DTEND;TZID=America/Chicago:20241026T130000
DTSTAMP:20260422T044945
CREATED:20241007T212457Z
LAST-MODIFIED:20241007T212953Z
UID:15413-1729936800-1729947600@maryvilleacademy.org
SUMMARY:Trunk or Treat on Saturday\, October 26
DESCRIPTION:We are excited to invite you to join us for a Trunk or Treat event hosted by Maryville Crisis Nursery on Saturday\, October 26. This family-friendly event will be a fun-filled day with decorated trunks\, treats and lots of Halloween excitement for children and families in our community. \nYour participation would make a big difference in helping us create a memorable experience for everyone. \nWe would love for you to participate by decorating a trunk and handing out treats or by contributing in any other way that suits you. Please reach out to our Crisis Nursery if you are interested. Your involvement will help bring joy to the children and families we serve. We look forward to celebrating Halloween with you. Thank you for your support. \n 
URL:https://maryvilleacademy.org/event/trunk-or-treat-on-saturday-october-26/
LOCATION:IL
ATTACH;FMTTYPE=image/png:https://maryvilleacademy.org/wp-content/uploads/Trunk-or-Treat-Banner-.png
END:VEVENT
END:VCALENDAR