BEGIN:VCALENDAR
VERSION:2.0
PRODID:-//Maryville Academy - ECPv6.15.20//NONSGML v1.0//EN
CALSCALE:GREGORIAN
METHOD:PUBLISH
X-WR-CALNAME:Maryville Academy
X-ORIGINAL-URL:https://maryvilleacademy.org
X-WR-CALDESC:Events for Maryville Academy
REFRESH-INTERVAL;VALUE=DURATION:PT1H
X-Robots-Tag:noindex
X-PUBLISHED-TTL:PT1H
BEGIN:VTIMEZONE
TZID:America/Chicago
BEGIN:DAYLIGHT
TZOFFSETFROM:-0600
TZOFFSETTO:-0500
TZNAME:CDT
DTSTART:20250309T080000
END:DAYLIGHT
BEGIN:STANDARD
TZOFFSETFROM:-0500
TZOFFSETTO:-0600
TZNAME:CST
DTSTART:20251102T070000
END:STANDARD
BEGIN:DAYLIGHT
TZOFFSETFROM:-0600
TZOFFSETTO:-0500
TZNAME:CDT
DTSTART:20260308T080000
END:DAYLIGHT
BEGIN:STANDARD
TZOFFSETFROM:-0500
TZOFFSETTO:-0600
TZNAME:CST
DTSTART:20261101T070000
END:STANDARD
BEGIN:DAYLIGHT
TZOFFSETFROM:-0600
TZOFFSETTO:-0500
TZNAME:CDT
DTSTART:20270314T080000
END:DAYLIGHT
BEGIN:STANDARD
TZOFFSETFROM:-0500
TZOFFSETTO:-0600
TZNAME:CST
DTSTART:20271107T070000
END:STANDARD
END:VTIMEZONE
BEGIN:VEVENT
DTSTART;VALUE=DATE:20260214
DTEND;VALUE=DATE:20261101
DTSTAMP:20260422T032016
CREATED:20251110T213952Z
LAST-MODIFIED:20260116T153434Z
UID:15819-1771027200-1793491199@maryvilleacademy.org
SUMMARY:2026 Upcoming Events
DESCRIPTION:Maryville is excited to announce its lineup of 2026 fundraising events that will bring together supporters\, community partners and friends to help advance our mission of nurturing\, protecting and strengthening children and families. Each event offers an opportunity to make a meaningful impact while celebrating the spirit of giving that defines the Maryville community. Details on specific events\, dates and sponsorship opportunities will be shared soon. \n \n 
URL:https://maryvilleacademy.org/event/2026-upcoming-events/
LOCATION:IL
ATTACH;FMTTYPE=image/jpeg:https://maryvilleacademy.org/wp-content/uploads/Upcoming-Events-Template--e1762810947495.jpg
END:VEVENT
END:VCALENDAR